BEGIN:VCALENDAR
VERSION:2.0
PRODID:-//Tukios.com/
BEGIN:VEVENT
UID:aceb81b0-eaad-4b66-b802-838fe94e2462@obituaries.oldmissionwichita.com
DTSTAMP:20260422T020150Z
DTSTART:20260501T150000Z
DTEND:20260501T160000Z
SUMMARY:Funeral Service
DESCRIPTION:
URL:https://obituaries.oldmissionwichita.com/obituaries/bennie-kinchion
LOCATION: 3424 E 21st St N  Wichita KS 67208
GEO:37.7245645;-97.2967625
END:VEVENT
END:VCALENDAR