BEGIN:VCALENDAR
VERSION:2.0
PRODID:-//Tukios.com/
BEGIN:VEVENT
UID:efa714e2-3480-4852-8ea0-00e595b44563@obituaries.oldmissionwichita.com
DTSTAMP:20260422T020736Z
DTSTART:20260430T220000Z
DTEND:20260501T010000Z
SUMMARY:Visitation
DESCRIPTION:
URL:https://obituaries.oldmissionwichita.com/obituaries/bennie-kinchion
LOCATION: 3424 E 21st St N  Wichita KS 67208
GEO:37.7245645;-97.2967625
END:VEVENT
END:VCALENDAR